BEGIN:VCALENDAR
VERSION:2.0
PRODID:-//Kerstin Warkentin - ECPv6.3.7//NONSGML v1.0//EN
CALSCALE:GREGORIAN
METHOD:PUBLISH
X-ORIGINAL-URL:https://coaching.kerstinwarkentin.de
X-WR-CALDESC:Veranstaltungen für Kerstin Warkentin
REFRESH-INTERVAL;VALUE=DURATION:PT1H
X-Robots-Tag:noindex
X-PUBLISHED-TTL:PT1H
BEGIN:VTIMEZONE
TZID:UTC
BEGIN:STANDARD
TZOFFSETFROM:+0000
TZOFFSETTO:+0000
TZNAME:UTC
DTSTART:20200101T000000
END:STANDARD
END:VTIMEZONE
BEGIN:VEVENT
DTSTART;TZID=UTC:20201127T100000
DTEND;TZID=UTC:20201129T180000
DTSTAMP:20260423T232051
CREATED:20200813T091902Z
LAST-MODIFIED:20200813T091902Z
UID:1920-1606471200-1606672800@coaching.kerstinwarkentin.de
SUMMARY:EFT(C) /Klopfakupressur Modul 2
DESCRIPTION:Vorraussetzung für die Teilnahme an EFT(C) /Klopfakupressur Modul 2: \nDie erfolgreiche Absolvierung von Modul 1 nach den Richtlinien von Verband für EFT(C) /Klopfakupressur e.V. \nEFT(C) /Klopfakupressur Modul 2 Aufbauseminar Ausbildung nach den Richtlinien des Verbandes für EFT(C) /Klopfakupressur \n3 Tage – 24 Stunden\, jeweils von 10:00 bis 18:00\, \nhttp://kerstinwarkentin.de/html/workshopanmeldung.html \nInhalt ist unter anderem: Gedanken von Gary Craig\, erweitert mit meinen eigenen Qualitätsansprüchen\nund den Konzepten von Silvia Hartmann\, Jaqui Crooks\, Carol Look\, ACEP \nUm an diesem Seminar teilnehmen zu können\, muss unbedingt der Inhalt von EFT(C) /Klopfakupressur \nModul 1 vollständig verstanden und seitdem regelmässig angewendet worden sein.\nEFT(C) /Klopfakupressur zur Gesundheitsförderung & zum Stressausgleich \nAufbauseminar Modul 2 \nFreitag \n\n1. Seminarblock (10:00 bis 13:00 Uhr)\nEthik\nGrundsätze des energetischen Coachings\nVorstellungsrunde\nKurze Wiederholung des Inhaltes von Modul 1\nBeantwortung von Fachfragen\nFeedback über Erfahrungen\nZusätzliche Klopfpunkte und Klopftechniken und Klopfanwendungen\nMentales\, stilles\, imaginäres Klopfen\nDemonstrationen und Kleingruppenarbeit\nweitere Sonnenstrahl Maps mit EFT(C) /Klopfakupressur\n\n  \nMittagspause (13:00 bis 14:00 Uhr) \n2. Seminarblock (14:00 bis 18:00 Uhr) \n\nWie man sich mit dem Klienten verbindet und effektiv arbeitet\nMehr über Borrowing Benefits\nEFT(C) /Klopfakupressur und Borrowing Benefits: Demonstration mit gesamter Gruppe\nWiderstände\, Glaubenssysteme\, Prägungen\, Überzeugungen\, Wahrheiten\nVertiefung der Psychoenergetischen Umkehrung\, Erstgewinn\, Zweitgewinn und Drittgewinn\nArbeit mit den Widerständen\nTailenders\nDemonstrationen und Kleingruppenarbeit\n\n  \nSamstag \n3. Seminarblock (10:00 bis 13:00 Uhr) \n\n\n\nÜberblick über Trauma und traumatische Reaktionen\nUmgang mit Reaktionen auf schwere Belastungen\nStabilisierungstechniken\nWege zu Kernthemen\nMehr Techniken\, um sanfter in den Prozess einzusteigen:\n\n\n\nOhne-Worte-Technik\, Filmtechnik\, Erzähl-Technik\, Erzähle-die-Geschichte-Technik\, \n\nmehr paradoxes Klopfen\nDemonstrationen und Kleingruppenarbeit\n\n  \nMittagspause (13:00 bis 14:00 Uhr) \n4. Seminarblock (14:00 bis 18:00 Uhr) \n\nVerfolge den Schmerz\nSich an ein Problem herantasten\nKonjunktiv Fragen\nMetaphern\nGespräch mit dem Körper\nTeilearbeit und Ursache\nIntuition und Humor\nResultat testen\nDemonstrationen und Kleingruppenarbeit\n\n  \nSonntag\, \n5. Seminarblock (10:00 bis 13:00 Uhr) \n\nPrinzipien aus „Palast der Möglichkeiten“.\nDie Schriften auf unseren Wänden\nChoices bzw. Entscheidungstechnik nach Dr. Patricia Carrington\nDie 1% Lösung nach Dr. Patricia Carrington\ndie Vielleicht-Methode\nDemonstrationen und Kleingruppenarbeit\n\n  \nMittagspause (13:00 bis 14:00 Uhr) \n6. Seminarblock (14:00 bis 18:00 Uhr) \n\n\n\nEFT(C) /Klopfakupressur am Telefon\nEFT(C) /Klopfakupressur in Gruppen\nSelbsttests\nReframing\nPositive Psychologie und EFT(C) /Klopfakupressur\nStellvertreterklopfen für Tiere\, Menschen\, Pflanzen- Protokoll dazu\nEFT(C) /Klopfakupressur und Kinder\nEFT(C) /Klopfakupressur und Tiere\nDemonstrationen und Kleingruppenarbeit\nFragen und Antworten\nVorstellung von Lernmaterialien: Bücher\, Literatur und Links\nWiederholung aller EFT(C) /Klopfakupressur- und Balance-Übungen\nAusblick auf das Profi Seminar: Modul 3\nFeedback\, Austeilen der Teilnehmer Bestätigungen und Abschlussrunde\n\n\n\nSeminarunterlagen \nTeilnahmebestätigung mit Siegel vom Verband für EFT(C) /Klopfakupressur
URL:https://coaching.kerstinwarkentin.de/termin/eftc-klopfakupressur-modul-2/
ATTACH;FMTTYPE=image/jpeg:https://coaching.kerstinwarkentin.de/wp-content/uploads/2020/08/Modul-2.jpg
ORGANIZER;CN="Kerstin Warkentin":MAILTO:kerstinwarkentin@web.de
END:VEVENT
END:VCALENDAR